BEGIN:VCALENDAR
VERSION:2.0
PRODID:SchoolNow
CALSCALE:GREGORIAN
BEGIN:VEVENT
UID:fbe07626-86f6-11e9-9a92-12aeaa41206e
DTSTAMP:20190604T183135Z
SUMMARY:Christian College Fair
URL;VALUE=URI:https://www.bereanchristian.com/calendar/1996467/christian-co
 llege-fair
DTSTART:20190925T010000Z
DTEND:20190925T030000Z
END:VEVENT
END:VCALENDAR
