BEGIN:VCALENDAR
VERSION:2.0
PRODID:SchoolNow
CALSCALE:GREGORIAN
BEGIN:VEVENT
UID:d0165420-86f6-11e9-bd0c-12aeaa41206e
DTSTAMP:20190625T185232Z
SUMMARY:ACT Workshop
LOCATION:Classroom D-5
URL;VALUE=URI:https://www.bereanchristian.com/calendar/1996466/act-workshop
 -classroom-d-5
DTSTART:20190921T160000Z
DTEND:20190921T220000Z
END:VEVENT
END:VCALENDAR
