BEGIN:VCALENDAR
VERSION:2.0
PRODID:SchoolNow
CALSCALE:GREGORIAN
BEGIN:VEVENT
UID:97ecd740-86f6-11e9-9546-12aeaa41206e
DTSTAMP:20190625T185211Z
SUMMARY:College Essay Workshop
LOCATION:Classroom A-1
URL;VALUE=URI:https://www.bereanchristian.com/calendar/1996465/college-essa
 y-workshop-classroom-a-1
DTSTART:20190918T214500Z
DTEND:20190918T231500Z
END:VEVENT
END:VCALENDAR
