BEGIN:VCALENDAR
VERSION:2.0
PRODID:SchoolNow
CALSCALE:GREGORIAN
BEGIN:VEVENT
UID:0a50453e-86f6-11e9-b948-0a92fb970960
DTSTAMP:20190626T151001Z
SUMMARY:PSAT Workshop
LOCATION:Classroom D-5
URL;VALUE=URI:https://www.bereanchristian.com/calendar/1996464/psat-worksho
 p-classroomd5
DTSTART:20190918T214500Z
DTEND:20190918T234500Z
END:VEVENT
END:VCALENDAR
