BEGIN:VCALENDAR
VERSION:2.0
PRODID:SchoolNow
CALSCALE:GREGORIAN
BEGIN:VEVENT
UID:f1391b62-86ef-11e9-846c-125dc7123b0a
DTSTAMP:20190604T174111Z
SUMMARY:Drama Tour
URL;VALUE=URI:https://www.bereanchristian.com/calendar/1996461/drama-tour
DTSTART:20190911T153000Z
DTEND:20190915T220000Z
END:VEVENT
END:VCALENDAR
