BEGIN:VCALENDAR
VERSION:2.0
PRODID:SchoolNow
CALSCALE:GREGORIAN
BEGIN:VEVENT
UID:18ad9200-86ef-11e9-91a1-12aeaa41206e
DTSTAMP:20190626T042739Z
SUMMARY:First Quarter Midterm
URL;VALUE=URI:https://www.bereanchristian.com/calendar/1996457/1st-quarter-
 mid-term
DTSTART:20190911T153000Z
DTEND:20190911T212000Z
END:VEVENT
END:VCALENDAR
