BEGIN:VCALENDAR
VERSION:2.0
PRODID:SchoolNow
CALSCALE:GREGORIAN
BEGIN:VEVENT
UID:06efc444-86ee-11e9-8663-0a6d75beb4d8
DTSTAMP:20190626T030519Z
SUMMARY:School Picture Make Up Day
URL;VALUE=URI:https://www.bereanchristian.com/calendar/1996452/school-pictu
 re-make-up-day
DTSTART:20190909T153000Z
DTEND:20190909T220000Z
END:VEVENT
END:VCALENDAR
