BEGIN:VCALENDAR
VERSION:2.0
PRODID:SchoolNow
CALSCALE:GREGORIAN
BEGIN:VEVENT
UID:4c3a42c8-86ed-11e9-a800-12905acb67a8
DTSTAMP:20190903T162945Z
SUMMARY:Fall Social at Boomers in Livermore
URL;VALUE=URI:https://www.bereanchristian.com/calendar/1996451/fall-social
DTSTART:20190907T020000Z
DTEND:20190907T040000Z
END:VEVENT
END:VCALENDAR
