BEGIN:VCALENDAR
VERSION:2.0
PRODID:SchoolNow
CALSCALE:GREGORIAN
BEGIN:VEVENT
UID:8314f6dc-86dc-11e9-bdc0-12673d930df2
DTSTAMP:20190625T192402Z
SUMMARY:Senior Parent Night
LOCATION:Student Center
URL;VALUE=URI:https://www.bereanchristian.com/calendar/1996428/senior-paren
 t-night
DTSTART:20190906T020000Z
DTEND:20190906T031500Z
END:VEVENT
END:VCALENDAR
