BEGIN:VCALENDAR
VERSION:2.0
PRODID:SchoolNow
CALSCALE:GREGORIAN
BEGIN:VEVENT
UID:2bc3bec0-862a-11e9-827a-121b69b8acca
DTSTAMP:20190626T030407Z
SUMMARY:Labor Day - NO SCHOOL
URL;VALUE=URI:https://www.bereanchristian.com/calendar/1995763/labor-day-no
 -school
DTSTART:20190902T153000Z
DTEND:20190902T220000Z
END:VEVENT
END:VCALENDAR
