BEGIN:VCALENDAR
VERSION:2.0
PRODID:SchoolNow
CALSCALE:GREGORIAN
BEGIN:VEVENT
UID:062ab6b4-862a-11e9-9d89-121b69b8acca
DTSTAMP:20190625T183357Z
SUMMARY:Back to School Night
URL;VALUE=URI:https://www.bereanchristian.com/calendar/1995762/bchs-back-to
 -school-night
DTSTART:20190827T011500Z
DTEND:20190827T033000Z
END:VEVENT
END:VCALENDAR
