BEGIN:VCALENDAR
VERSION:2.0
PRODID:SchoolNow
CALSCALE:GREGORIAN
BEGIN:VEVENT
UID:4f7b720a-8629-11e9-9614-0a9b519cc952
DTSTAMP:20190625T183323Z
SUMMARY:Parent iPad Orientation
LOCATION:Student Center
URL;VALUE=URI:https://www.bereanchristian.com/calendar/1995761/parent-ipad-
 orientation-bchs-student-center
DTSTART:20190820T020000Z
DTEND:20190820T030000Z
END:VEVENT
END:VCALENDAR
