BEGIN:VCALENDAR
VERSION:2.0
PRODID:SchoolNow
CALSCALE:GREGORIAN
BEGIN:VEVENT
UID:f71daf38-8628-11e9-8f56-0a9b519cc952
DTSTAMP:20190625T183211Z
SUMMARY:All School Retreat
URL;VALUE=URI:https://www.bereanchristian.com/calendar/1995760/bchs-all-sch
 ool-retreat
DTSTART:20190814T153000Z
DTEND:20190816T213000Z
END:VEVENT
END:VCALENDAR
