BEGIN:VCALENDAR
VERSION:2.0
PRODID:SchoolNow
CALSCALE:GREGORIAN
BEGIN:VEVENT
UID:78a04e54-8628-11e9-9fa7-0a9b519cc952
DTSTAMP:20190603T175416Z
SUMMARY:First Day of School
URL;VALUE=URI:https://www.bereanchristian.com/calendar/1995759/first-day-of
 -school
DTSTART:20190812T153000Z
DTEND:20190812T220000Z
END:VEVENT
END:VCALENDAR
