BEGIN:VCALENDAR
VERSION:2.0
PRODID:SchoolNow
CALSCALE:GREGORIAN
BEGIN:VEVENT
UID:454b69b0-8620-11e9-b41f-0a6fb12d5820
DTSTAMP:20190603T165437Z
SUMMARY:New Student Orientation
URL;VALUE=URI:https://www.bereanchristian.com/calendar/1995715/new-student-
 orientation
DTSTART:20190809T153000Z
DTEND:20190809T183000Z
END:VEVENT
END:VCALENDAR
