BEGIN:VCALENDAR
VERSION:2.0
PRODID:SchoolNow
CALSCALE:GREGORIAN
BEGIN:VEVENT
UID:adf521b4-861f-11e9-b03c-0a234978a2be
DTSTAMP:20190603T165023Z
SUMMARY:Student Registration Day + Picture Day
URL;VALUE=URI:https://www.bereanchristian.com/calendar/1995714/student-regi
 stration-day-picture-day
DTSTART:20190805T150000Z
DTEND:20190805T200000Z
END:VEVENT
END:VCALENDAR
